BEGIN:VCALENDAR
PRODID:-//AT Content Types//AT Event//EN
VERSION:2.0
METHOD:PUBLISH
BEGIN:VEVENT
DTSTAMP:20260422T115504Z
CREATED:20260401T132615Z
UID:ATEvent-d06addf1991348d2d16fdaa44573238f
LAST-MODIFIED:20260401T133022Z
SUMMARY:Vertiefungskurs - Anthroposophische Ernährung
DTSTART:20261015T170000Z
DTEND:20261112T203000Z
DESCRIPTION:Vorträge - Gespräche - Übungen
LOCATION:Online via Zoom
CATEGORIES:Vertiefungskurs im Herbst - online
CLASS:PUBLIC
END:VEVENT
END:VCALENDAR
