BEGIN:VCALENDAR
PRODID:-//AT Content Types//AT Event//EN
VERSION:1.0
BEGIN:VEVENT
DTSTART:20260425T080000Z
DTEND:20260425T140000Z
DCREATED:20260401T125011Z
UID:ATEvent-53af2827714b64429ca63991f5211a38
SEQUENCE:0
LAST-MODIFIED:20260413T102021Z
SUMMARY:Gemüsebrühe selber machen
DESCRIPTION:Tag der offenen Tür der Bingenheimer Saatgut AG
LOCATION:61209 Echzell-Bingenheim
PRIORITY:3
TRANSP:0
END:VEVENT
END:VCALENDAR
