BEGIN:VCALENDAR
PRODID:-//AT Content Types//AT Event//EN
VERSION:2.0
METHOD:PUBLISH
BEGIN:VEVENT
DTSTAMP:20260420T155725Z
CREATED:20251128T100225Z
UID:ATEvent-96431e40e0261444ade0c0328b6b812a
LAST-MODIFIED:20251128T100915Z
SUMMARY:Mitgliederversammlung 2026
DTSTART:20260625T170000Z
DTEND:20260625T183000Z
DESCRIPTION:Teilnahme ist kostenfrei
LOCATION:online via Zoom
CATEGORIES:Mitgliederversammlung - Online
CLASS:PUBLIC
END:VEVENT
END:VCALENDAR
