BEGIN:VCALENDAR
PRODID:-//AT Content Types//AT Event//EN
VERSION:2.0
METHOD:PUBLISH
BEGIN:VEVENT
DTSTAMP:20260424T235130Z
CREATED:20240615T095231Z
UID:ATEvent-6dcdc3ba493cfa5f727b2eadc7679f91
LAST-MODIFIED:20241031T081601Z
SUMMARY:Die kosmische Ernährung II
DTSTART:20241109T123000Z
DTEND:20241109T163000Z
DESCRIPTION:Präsenzseminar mit Dr. Petra Kühne
LOCATION:Frankfurt am Main Rudolf Steiner Haus
CATEGORIES:Nachmittagsveranstaltung
CONTACT:Arbeitszentrum Frankfurt\, 069 / 53 09 35 81\, b.messmer@arbeitszentrum-ffm.de
URL:https://www.arbeitszentrum-ffm.de
CLASS:PUBLIC
END:VEVENT
END:VCALENDAR
