BEGIN:VCALENDAR
PRODID:-//AT Content Types//AT Event//EN
VERSION:1.0
BEGIN:VEVENT
DTSTART:20260226T180000Z
DTEND:20260326T203000Z
DCREATED:20231121T184755Z
UID:ATEvent-4f501c24fb94e10006761f8424159395
SEQUENCE:0
LAST-MODIFIED:20260108T140213Z
SUMMARY:Basiskurs - Anthroposophische Ernährung
DESCRIPTION:Vorträge - Gespräche - Übungen
LOCATION:online
PRIORITY:3
TRANSP:0
END:VEVENT
END:VCALENDAR
